BEGIN:VCALENDAR
VERSION:2.0
PRODID:http://www.pfarrei-kelbergerland.de
BEGIN:VEVENT
UID:206b4a4c-3d31-11f1-a3e9-0242ac11002b-1782748800000-de
DTSTAMP:20260421T032103Z
DTSTART:20260629T160000Z
DTEND:20260629T165500Z
SUMMARY;LANGUAGE=de:Festhochamt
URL:http://www.pfarrei-kelbergerland.de/aktuelles/gottesdienste/gottesdienst/Festhochamt-2026.06.29/
END:VEVENT
END:VCALENDAR
